BEGIN:VCALENDAR
VERSION:2.0
PRODID:-//Sommelier Edit - ECPv6.15.20//NONSGML v1.0//EN
CALSCALE:GREGORIAN
METHOD:PUBLISH
X-WR-CALNAME:Sommelier Edit
X-ORIGINAL-URL:https://sommelieredit.com
X-WR-CALDESC:Events for Sommelier Edit
REFRESH-INTERVAL;VALUE=DURATION:PT1H
X-Robots-Tag:noindex
X-PUBLISHED-TTL:PT1H
BEGIN:VTIMEZONE
TZID:Europe/London
BEGIN:DAYLIGHT
TZOFFSETFROM:+0000
TZOFFSETTO:+0100
TZNAME:BST
DTSTART:20230326T010000
END:DAYLIGHT
BEGIN:STANDARD
TZOFFSETFROM:+0100
TZOFFSETTO:+0000
TZNAME:GMT
DTSTART:20231029T010000
END:STANDARD
BEGIN:DAYLIGHT
TZOFFSETFROM:+0000
TZOFFSETTO:+0100
TZNAME:BST
DTSTART:20240331T010000
END:DAYLIGHT
BEGIN:STANDARD
TZOFFSETFROM:+0100
TZOFFSETTO:+0000
TZNAME:GMT
DTSTART:20241027T010000
END:STANDARD
BEGIN:DAYLIGHT
TZOFFSETFROM:+0000
TZOFFSETTO:+0100
TZNAME:BST
DTSTART:20250330T010000
END:DAYLIGHT
BEGIN:STANDARD
TZOFFSETFROM:+0100
TZOFFSETTO:+0000
TZNAME:GMT
DTSTART:20251026T010000
END:STANDARD
BEGIN:DAYLIGHT
TZOFFSETFROM:+0000
TZOFFSETTO:+0100
TZNAME:BST
DTSTART:20260329T010000
END:DAYLIGHT
BEGIN:STANDARD
TZOFFSETFROM:+0100
TZOFFSETTO:+0000
TZNAME:GMT
DTSTART:20261025T010000
END:STANDARD
END:VTIMEZONE
BEGIN:VEVENT
DTSTART;TZID=Europe/London:20251105T130000
DTEND;TZID=Europe/London:20251105T170000
DTSTAMP:20260425T203738
CREATED:20251006T105233Z
LAST-MODIFIED:20251006T105233Z
UID:10000066-1762347600-1762362000@sommelieredit.com
SUMMARY:Union des Grands Crus de Bordeaux | Vintage 2023
DESCRIPTION:Join the Union des Grands Crus de Bordeaux and its members for an exclusive tasting of the 2023 vintage.\nThe Union des Grands Crus de Bordeaux is a group of 132 top estates based in the Gironde’s finest appellations. Created in 1973\, it shares the history and quality of Grands Crus Bordeaux with trade partners\nand wine enthusiasts around the world. \nA list of exhibitors will be available on ugcb.net late October.
URL:https://sommelieredit.com/event/union-des-grands-crus-de-bordeaux-vintage-2023/
LOCATION:Lindley Hall\, Elverton Street\, London\, SW1P 2PB
CATEGORIES:Tasting Events
ATTACH;FMTTYPE=image/png:https://sommelieredit.com/wp-content/uploads/2023/09/Screenshot-2023-09-19-at-14.43.16.png
ORGANIZER;CN="Otaria Communications":MAILTO:celine@otaria.co.uk
GEO:51.4945023;-0.1346343
X-APPLE-STRUCTURED-LOCATION;VALUE=URI;X-ADDRESS=Lindley Hall Elverton Street London SW1P 2PB;X-APPLE-RADIUS=500;X-TITLE=Elverton Street:geo:-0.1346343,51.4945023
END:VEVENT
BEGIN:VEVENT
DTSTART;TZID=Europe/London:20241105T130000
DTEND;TZID=Europe/London:20241105T170000
DTSTAMP:20260425T203738
CREATED:20241004T121254Z
LAST-MODIFIED:20241004T121254Z
UID:10000036-1730811600-1730826000@sommelieredit.com
SUMMARY:Union des Grands Crus de Bordeaux
DESCRIPTION:Join the Union des Grands Crus de Bordeaux and its members for an exclusive tasting of the 2022 vintage.\nThe Union des Grands Crus de Bordeaux is a group of 132 top estates based in the Gironde’s finest appellations. Created in 1973\, it shares the history and quality of Grands Crus Bordeaux with trade partners and wine enthusiasts around the world. \nA list of exhibitors will be available on ugcb.net late October. \nThe tasting is open to active members of the wine trade and press. Organisers reserve the right to deny access to visitors unable to show relevant credentials. \nPlease note that your email address will be shared with the Union des Grands Crus de Bordeaux. \nUGCB Registration
URL:https://sommelieredit.com/event/union-des-grands-crus-de-bordeaux/
LOCATION:Lindley Hall\, Elverton Street\, London\, SW1P 2PB
CATEGORIES:Tasting Events
ORGANIZER;CN="Otaria Communications":MAILTO:celine@otaria.co.uk
GEO:51.4945023;-0.1346343
X-APPLE-STRUCTURED-LOCATION;VALUE=URI;X-ADDRESS=Lindley Hall Elverton Street London SW1P 2PB;X-APPLE-RADIUS=500;X-TITLE=Elverton Street:geo:-0.1346343,51.4945023
END:VEVENT
BEGIN:VEVENT
DTSTART;TZID=Europe/London:20240930T140000
DTEND;TZID=Europe/London:20240930T150000
DTSTAMP:20260425T203738
CREATED:20240906T105547Z
LAST-MODIFIED:20240906T110013Z
UID:10000034-1727704800-1727708400@sommelieredit.com
SUMMARY:Copa Jerez Final 2024
DESCRIPTION:Members are invited to join us the live finals of Copa Jerez 2024.\n\nSherry tasting 12pm\nWatch contestants live 12pm – 2pm\nWinners announced 2.30pm\n\nFollowed by Sherry cocktail and canapés. \nINVITATION_CopaJerez_UK FINALS \nRSVP in advance essential: celine@otaria.co.uk
URL:https://sommelieredit.com/event/copa-jerez-final-2024/
LOCATION:Mary’s\, Pollen Street\, London\, Greater London\, W1S 1NH\, United Kingdom
CATEGORIES:Award Events,Social Mixers,Tasting Events
ATTACH;FMTTYPE=image/png:https://sommelieredit.com/wp-content/uploads/2024/09/Copa-Jerez_2024.png
ORGANIZER;CN="Otaria Communications":MAILTO:celine@otaria.co.uk
GEO:51.5133282;-0.1423548
X-APPLE-STRUCTURED-LOCATION;VALUE=URI;X-ADDRESS=Mary’s Pollen Street London Greater London W1S 1NH United Kingdom;X-APPLE-RADIUS=500;X-TITLE=Pollen Street:geo:-0.1423548,51.5133282
END:VEVENT
END:VCALENDAR