BEGIN:VCALENDAR
VERSION:2.0
PRODID:-//Sommelier Edit - ECPv6.15.20//NONSGML v1.0//EN
CALSCALE:GREGORIAN
METHOD:PUBLISH
X-ORIGINAL-URL:https://sommelieredit.com/nz/
X-WR-CALDESC:Events for Sommelier Edit
REFRESH-INTERVAL;VALUE=DURATION:PT1H
X-Robots-Tag:noindex
X-PUBLISHED-TTL:PT1H
BEGIN:VTIMEZONE
TZID:Europe/London
BEGIN:DAYLIGHT
TZOFFSETFROM:+0000
TZOFFSETTO:+0100
TZNAME:BST
DTSTART:20240331T010000
END:DAYLIGHT
BEGIN:STANDARD
TZOFFSETFROM:+0100
TZOFFSETTO:+0000
TZNAME:GMT
DTSTART:20241027T010000
END:STANDARD
BEGIN:DAYLIGHT
TZOFFSETFROM:+0000
TZOFFSETTO:+0100
TZNAME:BST
DTSTART:20250330T010000
END:DAYLIGHT
BEGIN:STANDARD
TZOFFSETFROM:+0100
TZOFFSETTO:+0000
TZNAME:GMT
DTSTART:20251026T010000
END:STANDARD
BEGIN:DAYLIGHT
TZOFFSETFROM:+0000
TZOFFSETTO:+0100
TZNAME:BST
DTSTART:20260329T010000
END:DAYLIGHT
BEGIN:STANDARD
TZOFFSETFROM:+0100
TZOFFSETTO:+0000
TZNAME:GMT
DTSTART:20261025T010000
END:STANDARD
END:VTIMEZONE
BEGIN:VEVENT
DTSTART;TZID=Europe/London:20250527T110000
DTEND;TZID=Europe/London:20250527T130000
DTSTAMP:20260425T190238
CREATED:20250521T095430Z
LAST-MODIFIED:20250521T095430Z
UID:10000058-1748343600-1748350800@sommelieredit.com
SUMMARY:CAM-TALK
DESCRIPTION:Calling all FoH superstars!\nDo you run drinks\, pair wine\, mix cocktails\, or lead beverage service? Are you a bartender\, a wine lover\, a service legend? — this is for you! \nCome and meet New Zealand’s first and only Master Sommelier\, Cam Douglas\, for a cosy chat about all things wine\, industry\, and “somm”. You’re invited to BambuchiSan in Hataitai on Tuesday May 27th for “Cam Talk” – an intimate talk with Cam about his experiences as a Sommelier in NZ. \nWe’ll be running two different sessions at 11am and 2pm\, for approx 2 hours each\, including a presentation and talk from Cam\, a Q&A session\, plus drinks and nibbles. It will also be a chance for the Wellington industry to celebrate the first annual ranking of the top 100 Sommeliers being launched in New Zealand & Australia. \nAs well as regaling you with tales of his sommelier life\, Cam will answer any questions about the new initiative\, and you’ll be able to find out how to nominate your peers before the deadline on June 30th. \nThanks to our fab sponsors\, we have libations Swift Wines\, Albarino Bros\, Chateau Garage\, Unlikely Companions\, and State of Play\, plus filter coffee from the legends at Coffee Supreme. \nAfter the chat and Q&A there’ll be snacks from Tex*As Salsa\, @wellynznommsforsomms\, Coolsville Cafe and BambuchiSan. This is an industry only event\, with two separate sessions from 11am – 1pm\, and 2pm – 4pm. \nRSVP’s are essential\, hit the link below to join us! \nRSVP
URL:https://sommelieredit.com/nz/event/cam-talk/2025-05-27/1/
LOCATION:BambuchiSan\, Hataitai\, 31a Waitoa Road\, Hataitai\, Wellington\, 6021\, New Zealand
ATTACH;FMTTYPE=image/png:https://sommelieredit.com/wp-content/uploads/2025/05/SE-website_EVENTS-2.png
GEO:-41.3042418;174.7938596
X-APPLE-STRUCTURED-LOCATION;VALUE=URI;X-ADDRESS=BambuchiSan Hataitai 31a Waitoa Road Hataitai Wellington 6021 New Zealand;X-APPLE-RADIUS=500;X-TITLE=31a Waitoa Road:geo:174.7938596,-41.3042418
END:VEVENT
BEGIN:VEVENT
DTSTART;TZID=Europe/London:20250527T140000
DTEND;TZID=Europe/London:20250527T160000
DTSTAMP:20260425T190238
CREATED:20250521T095430Z
LAST-MODIFIED:20250521T095430Z
UID:10000059-1748354400-1748361600@sommelieredit.com
SUMMARY:CAM-TALK
DESCRIPTION:Calling all FoH superstars!\nDo you run drinks\, pair wine\, mix cocktails\, or lead beverage service? Are you a bartender\, a wine lover\, a service legend? — this is for you! \nCome and meet New Zealand’s first and only Master Sommelier\, Cam Douglas\, for a cosy chat about all things wine\, industry\, and “somm”. You’re invited to BambuchiSan in Hataitai on Tuesday May 27th for “Cam Talk” – an intimate talk with Cam about his experiences as a Sommelier in NZ. \nWe’ll be running two different sessions at 11am and 2pm\, for approx 2 hours each\, including a presentation and talk from Cam\, a Q&A session\, plus drinks and nibbles. It will also be a chance for the Wellington industry to celebrate the first annual ranking of the top 100 Sommeliers being launched in New Zealand & Australia. \nAs well as regaling you with tales of his sommelier life\, Cam will answer any questions about the new initiative\, and you’ll be able to find out how to nominate your peers before the deadline on June 30th. \nThanks to our fab sponsors\, we have libations Swift Wines\, Albarino Bros\, Chateau Garage\, Unlikely Companions\, and State of Play\, plus filter coffee from the legends at Coffee Supreme. \nAfter the chat and Q&A there’ll be snacks from Tex*As Salsa\, @wellynznommsforsomms\, Coolsville Cafe and BambuchiSan. This is an industry only event\, with two separate sessions from 11am – 1pm\, and 2pm – 4pm. \nRSVP’s are essential\, hit the link below to join us! \nRSVP
URL:https://sommelieredit.com/nz/event/cam-talk/2025-05-27/2/
LOCATION:BambuchiSan\, Hataitai\, 31a Waitoa Road\, Hataitai\, Wellington\, 6021\, New Zealand
ATTACH;FMTTYPE=image/png:https://sommelieredit.com/wp-content/uploads/2025/05/SE-website_EVENTS-2.png
GEO:-41.3042418;174.7938596
X-APPLE-STRUCTURED-LOCATION;VALUE=URI;X-ADDRESS=BambuchiSan Hataitai 31a Waitoa Road Hataitai Wellington 6021 New Zealand;X-APPLE-RADIUS=500;X-TITLE=31a Waitoa Road:geo:174.7938596,-41.3042418
END:VEVENT
END:VCALENDAR