BEGIN:VCALENDAR
VERSION:2.0
PRODID:-//Sommelier Edit - ECPv6.15.20//NONSGML v1.0//EN
CALSCALE:GREGORIAN
METHOD:PUBLISH
X-ORIGINAL-URL:https://sommelieredit.com
X-WR-CALDESC:Events for Sommelier Edit
REFRESH-INTERVAL;VALUE=DURATION:PT1H
X-Robots-Tag:noindex
X-PUBLISHED-TTL:PT1H
BEGIN:VTIMEZONE
TZID:Europe/London
BEGIN:DAYLIGHT
TZOFFSETFROM:+0000
TZOFFSETTO:+0100
TZNAME:BST
DTSTART:20240331T010000
END:DAYLIGHT
BEGIN:STANDARD
TZOFFSETFROM:+0100
TZOFFSETTO:+0000
TZNAME:GMT
DTSTART:20241027T010000
END:STANDARD
BEGIN:DAYLIGHT
TZOFFSETFROM:+0000
TZOFFSETTO:+0100
TZNAME:BST
DTSTART:20250330T010000
END:DAYLIGHT
BEGIN:STANDARD
TZOFFSETFROM:+0100
TZOFFSETTO:+0000
TZNAME:GMT
DTSTART:20251026T010000
END:STANDARD
BEGIN:DAYLIGHT
TZOFFSETFROM:+0000
TZOFFSETTO:+0100
TZNAME:BST
DTSTART:20260329T010000
END:DAYLIGHT
BEGIN:STANDARD
TZOFFSETFROM:+0100
TZOFFSETTO:+0000
TZNAME:GMT
DTSTART:20261025T010000
END:STANDARD
BEGIN:DAYLIGHT
TZOFFSETFROM:+0000
TZOFFSETTO:+0100
TZNAME:BST
DTSTART:20270328T010000
END:DAYLIGHT
BEGIN:STANDARD
TZOFFSETFROM:+0100
TZOFFSETTO:+0000
TZNAME:GMT
DTSTART:20271031T010000
END:STANDARD
END:VTIMEZONE
BEGIN:VEVENT
DTSTART;TZID=Europe/London:20260324T110000
DTEND;TZID=Europe/London:20260324T170000
DTSTAMP:20260420T155929
CREATED:20260226T100919Z
LAST-MODIFIED:20260226T100940Z
UID:10000092-1774350000-1774371600@sommelieredit.com
SUMMARY:The Cellar Series\, Hallgarten Wines
DESCRIPTION:Following its launch in 2025\, Hallgarten & Novum Wines is proud to once again to be hosting a tasting of The Cellar Series. The Cellar Series is a new way for UK sommeliers to purchase fine wines\, giving them access to cellar-aged bottles that are ready to drink now.\nTaste a carefully selected range of fine wines from the Hallgarten & Novum Wines portfolio\, including mature\, current drinking vintages from some of Bordeaux’s finest châteaux\, and examples from world-class producers in other regions of France and from around the world. \nThis event is by invitation only. Spaces are limited so please register your interest with your Hallgarten Account Manager or by contacting events@hnwines.co.uk.
URL:https://sommelieredit.com/event/the-cellar-series-hallgarten-wines/
LOCATION:Banking Hall\, Banking Hall\, 14 Cornhill\,\, London\, EC3V 3ND\, United Kingdom
CATEGORIES:Tasting Events
ATTACH;FMTTYPE=image/jpeg:https://sommelieredit.com/wp-content/uploads/2026/02/the-cellar-series-website-banner-17226-scaled.jpg
ORGANIZER;CN="Hallgarten & Novum Wines":MAILTO:sales@hnwines.co.uk
GEO:51.5132559;-0.0878242
X-APPLE-STRUCTURED-LOCATION;VALUE=URI;X-ADDRESS=Banking Hall Banking Hall 14 Cornhill London EC3V 3ND United Kingdom;X-APPLE-RADIUS=500;X-TITLE=Banking Hall\, 14 Cornhill\,:geo:-0.0878242,51.5132559
END:VEVENT
BEGIN:VEVENT
DTSTART;TZID=Europe/London:20260413T123000
DTEND;TZID=Europe/London:20260413T133000
DTSTAMP:20260420T155929
CREATED:20260313T164552Z
LAST-MODIFIED:20260313T165416Z
UID:10000102-1776083400-1776087000@sommelieredit.com
SUMMARY:Shogun Sake Brewery Visit
DESCRIPTION:Don’t pass up this opportunity to visit a sake brewery without leaving London!\nJoin Shogun’s brewing team\, brand ambassador and co-founder for a brewery visit to discuss all things production\, food pairings\, use in lower ABV cocktails\, market positioning\, and of course tasting! \n \nEstablished in 2025\, Shogun set up their own brewery in Peckham\, one of only two sake breweries in London.\nBuilt entirely from the ground up\, Shogun produces modern\, high quality English sake in-house for drinkers looking for something different. \nNumbers are limited so please register your interest below.\n\n\n                \n                        \n                            Event Registration Form\n                             \n                        \n                        This field is hidden when viewing the formEvent NameThis field is hidden when viewing the formStatusPendingApprovedRejectedWaiting ListAttendedNo showYour DetailsName(Required)\n                            \n                            \n                                                    First\n                                                    \n                                                \n                            \n                            \n                                                            Last\n                                                            \n                                                        \n                            \n                        Job title(Required)Restaurant(Required)Your mobile phone number(Required)Email(Required)\n                            \n                        Declaration I understand that by applying for a place at this event I am committed to attend.Failure to attend once offered a place is as unpopular as 'no-show' at the restaurant. Please provide 48hrs notice if you are no longer able to attend.\n          \n            \n            \n            \n            \n            \n            \n            \n            \n            \n            \n            \n            \n            \n        \n                        Δ
URL:https://sommelieredit.com/event/shogun-sake-brewery-visit/
LOCATION:UNIT 29 (ARCH 125)\, Station Passage. London\, Queens Road\, Peckham SE15 2JR\, UNIT 29 (ARCH 125)\, Station Passage. London\, Queens Road\, Peckham\, se15 2jr\, United Kingdom
CATEGORIES:Winery Tour
ATTACH;FMTTYPE=image/png:https://sommelieredit.com/wp-content/uploads/2026/03/sake.png
ORGANIZER;CN="Harry Cooper":MAILTO:harry@counter71.co.uk
GEO:51.4742215;-0.0573178
X-APPLE-STRUCTURED-LOCATION;VALUE=URI;X-ADDRESS=UNIT 29 (ARCH 125) Station Passage. London Queens Road Peckham SE15 2JR UNIT 29 (ARCH 125) Station Passage. London Queens Road Peckham se15 2jr United Kingdom;X-APPLE-RADIUS=500;X-TITLE=UNIT 29 (ARCH 125)\, Station Passage. London\, Queens Road\, Peckham:geo:-0.0573178,51.4742215
END:VEVENT
BEGIN:VEVENT
DTSTART;TZID=Europe/London:20250519T100000
DTEND;TZID=Europe/London:20250521T170000
DTSTAMP:20260420T155929
CREATED:20260409T115025Z
LAST-MODIFIED:20260420T131917Z
UID:10000053-1747648800-1747846800@sommelieredit.com
SUMMARY:London Wine Fair 2026
DESCRIPTION:Join Sommelier Edit at LWF 2026\nWe’ve teamed up with London Wine Fair and will be exhibiting Sommelier Edit at this year’s fair. Visit us on Stand F59. \nRegister below to claim one of our FREE tickets to show\, exclusively for Sommelier Edit members. \nVisit our stand at LWF and you could win your own Coravin® Sparkling; learn how to taste for competitions with our ‘You be the judge‘ tasting sessions with expert chair judges; and take the last minute opportuntity to apply for the Taylor’s Port Top 100 Sommeliers 2026. \nSee you there! \n\n                \n                        Name(Required)\n                            \n                            \n                                                    First\n                                                    \n                                                \n                            \n                            \n                                                            Last\n                                                            \n                                                        \n                            \n                        Restaurant NameJob titleEmail(Required)\n                            \n                        QUESTIONSWhich wine regions\, styles\, or grape varieties currently interest you most?Who do you like to meet at LWF?\n								\n								Winemakers\n							\n								\n								Export managers\n							\n								\n								UK Account manager\n							\n								\n								No one\, like to taste alone\n							Are you coming to London Wine Fair?\n								\n								Definitely\n							\n								\n								Maybe\n							\n								\n								Persuade me\n							\n								\n								Not this year\n							Would you like sommelier-exclusive checklist of wines at LWF & a FREE VIP pass?\n								\n								Absolutely\, sign me up\n							\n								\n								Interesting\, tell me more\n							\n								\n								Still not coming\n							Any tips for fellow sommeliers?Are you exhibiting on a stand? Who are you hoping to meet? What are you going to taste?\n          \n            \n            \n            \n            \n            \n            \n            \n            \n            \n            \n            \n            \n            \n        \n                        Δ
URL:https://sommelieredit.com/event/london-wine-fair-2026/
LOCATION:London Wine Fair\, Olympia\, London\, Hammersmith Rd\, London\, Hammersmith Rd\,W14 8UX\, United Kingdom
CATEGORIES:Seminar,Tasting Events
ATTACH;FMTTYPE=image/png:https://sommelieredit.com/wp-content/uploads/2025/03/LWF-2026.png
GEO:51.4936403;-0.2158343
X-APPLE-STRUCTURED-LOCATION;VALUE=URI;X-ADDRESS=London Wine Fair Olympia London Hammersmith Rd London Hammersmith RdW14 8UX United Kingdom;X-APPLE-RADIUS=500;X-TITLE=Hammersmith Rd:geo:-0.2158343,51.4936403
END:VEVENT
END:VCALENDAR