BEGIN:VCALENDAR
VERSION:2.0
PRODID:-//Sommelier Edit - ECPv6.15.20//NONSGML v1.0//EN
CALSCALE:GREGORIAN
METHOD:PUBLISH
X-WR-CALNAME:Sommelier Edit
X-ORIGINAL-URL:https://sommelieredit.com
X-WR-CALDESC:Events for Sommelier Edit
REFRESH-INTERVAL;VALUE=DURATION:PT1H
X-Robots-Tag:noindex
X-PUBLISHED-TTL:PT1H
BEGIN:VTIMEZONE
TZID:Europe/London
BEGIN:DAYLIGHT
TZOFFSETFROM:+0000
TZOFFSETTO:+0100
TZNAME:BST
DTSTART:20250330T010000
END:DAYLIGHT
BEGIN:STANDARD
TZOFFSETFROM:+0100
TZOFFSETTO:+0000
TZNAME:GMT
DTSTART:20251026T010000
END:STANDARD
BEGIN:DAYLIGHT
TZOFFSETFROM:+0000
TZOFFSETTO:+0100
TZNAME:BST
DTSTART:20260329T010000
END:DAYLIGHT
BEGIN:STANDARD
TZOFFSETFROM:+0100
TZOFFSETTO:+0000
TZNAME:GMT
DTSTART:20261025T010000
END:STANDARD
BEGIN:DAYLIGHT
TZOFFSETFROM:+0000
TZOFFSETTO:+0100
TZNAME:BST
DTSTART:20270328T010000
END:DAYLIGHT
BEGIN:STANDARD
TZOFFSETFROM:+0100
TZOFFSETTO:+0000
TZNAME:GMT
DTSTART:20271031T010000
END:STANDARD
END:VTIMEZONE
BEGIN:VEVENT
DTSTART;TZID=Europe/London:20260518T100000
DTEND;TZID=Europe/London:20260520T170000
DTSTAMP:20260425T143037
CREATED:20260409T115025Z
LAST-MODIFIED:20260420T131917Z
UID:10000053-1779098400-1779296400@sommelieredit.com
SUMMARY:London Wine Fair 2026
DESCRIPTION:Join Sommelier Edit at LWF 2026\nWe’ve teamed up with London Wine Fair and will be exhibiting Sommelier Edit at this year’s fair. Visit us on Stand F59. \nRegister below to claim one of our FREE tickets to show\, exclusively for Sommelier Edit members. \nVisit our stand at LWF and you could win your own Coravin® Sparkling; learn how to taste for competitions with our ‘You be the judge‘ tasting sessions with expert chair judges; and take the last minute opportuntity to apply for the Taylor’s Port Top 100 Sommeliers 2026. \nSee you there! \n\n\n                \n                        Name(Required)\n                            \n                            \n                                                    First\n                                                    \n                                                \n                            \n                            \n                                                            Last\n                                                            \n                                                        \n                            \n                        Restaurant NameJob titleEmail(Required)\n                            \n                        QUESTIONSWhich wine regions\, styles\, or grape varieties currently interest you most?Who do you like to meet at LWF?\n								\n								Winemakers\n							\n								\n								Export managers\n							\n								\n								UK Account manager\n							\n								\n								No one\, like to taste alone\n							Are you coming to London Wine Fair?\n								\n								Definitely\n							\n								\n								Maybe\n							\n								\n								Persuade me\n							\n								\n								Not this year\n							Would you like sommelier-exclusive checklist of wines at LWF & a FREE VIP pass?\n								\n								Absolutely\, sign me up\n							\n								\n								Interesting\, tell me more\n							\n								\n								Still not coming\n							Any tips for fellow sommeliers?Are you exhibiting on a stand? Who are you hoping to meet? What are you going to taste?\n          \n            \n            \n            \n            \n            \n            \n            \n            \n            \n            \n            \n            \n            \n        \n                        Δ
URL:https://sommelieredit.com/event/london-wine-fair-2026/
LOCATION:London Wine Fair\, Olympia\, London\, Hammersmith Rd\, London\, Hammersmith Rd\,W14 8UX\, United Kingdom
CATEGORIES:Seminar,Tasting Events
ATTACH;FMTTYPE=image/png:https://sommelieredit.com/wp-content/uploads/2025/03/LWF-2026.png
GEO:51.4936403;-0.2158343
X-APPLE-STRUCTURED-LOCATION;VALUE=URI;X-ADDRESS=London Wine Fair Olympia London Hammersmith Rd London Hammersmith RdW14 8UX United Kingdom;X-APPLE-RADIUS=500;X-TITLE=Hammersmith Rd:geo:-0.2158343,51.4936403
END:VEVENT
BEGIN:VEVENT
DTSTART;TZID=Europe/London:20260622T100000
DTEND;TZID=Europe/London:20260622T170000
DTSTAMP:20260425T143037
CREATED:20260423T133501Z
LAST-MODIFIED:20260423T133736Z
UID:10000103-1782122400-1782147600@sommelieredit.com
SUMMARY:Australia and New Zealand Masterclass and Tasting
DESCRIPTION:For the first time together\, Wine Australia and New Zealand Winegrowers will be in Birmingham running a masterclass and free-pour tasting.\nThe Aussies and Kiwis are good mates\, with lots in common. Fine wine\, great food\, stunning scenery\, the cool Southern Ocean and also our cool Antipodean attitude. Our wines are an expression of our distinctive terroirs and the vibrant communities that craft them. Perfecting traditional techniques and inventing our own ways of doing things\, we push the boundaries in the pursuit of the most diverse\, thrilling wines in the world. \nMasterclass (10.30 – 12.00 and 14.00 – 15.30)\nTaste sparkling wine\, Sauvignon Blanc\, Chardonnay\, Pinot Noir and Shiraz/Syrah from Australia and New Zealand with Emma Symington MW (Head of Education EMEA\, Wine Australia) and Anne Krebiehl MW (Wine writer and consultant).\nDiscover the unique characteristics of the wines\, and why they’ve become signature styles of the regions. Learn about the cooling influence of the ocean and altitude\, as well as the diversity and impact of soils\, climate and winemaking. The line-up includes elegant cool climate expressions and new releases as well as older vintages.\nWe will run the masterclass twice – when you register\, please select either the morning or afternoon session. \nFree-pour tasting (10.00 – 17.00)\nThe free-pour tasting will run throughout the day\, featuring 60 wines from across Australia and New Zealand. The flights are sparkling wine\, Riesling\, aromatic whites\, Sauvignon Blanc\, Chardonnay\, rosé\, light reds\, Pinot Noir\, Syrah/Shiraz\, and Cabernet Sauvignon and blends. \nAll the wines featured are available in the UK\, so if you’re looking to expand your range of Australian and New Zealand wines\, this is a great chance to explore and taste. \n>> REGISTER TO ATTEND\n 
URL:https://sommelieredit.com/event/australia-and-new-zealand-masterclass-and-tasting/
LOCATION:The Grand Hotel\, 1 Church Street\, Birmingham\, B3 2FE\, United Kingdom
CATEGORIES:Seminar,Tasting Events
ATTACH;FMTTYPE=image/jpeg:https://sommelieredit.com/wp-content/uploads/2026/03/UK_AUNZBirmingham2026_EB.jpg
ORGANIZER;CN="Wine Australia":MAILTO:uk@wineaustralia.com
GEO:52.4818174;-1.8996306
X-APPLE-STRUCTURED-LOCATION;VALUE=URI;X-ADDRESS=The Grand Hotel 1 Church Street Birmingham B3 2FE United Kingdom;X-APPLE-RADIUS=500;X-TITLE=1 Church Street:geo:-1.8996306,52.4818174
END:VEVENT
END:VCALENDAR