BEGIN:VCALENDAR
VERSION:2.0
PRODID:-//Sommelier Edit - ECPv6.15.20//NONSGML v1.0//EN
CALSCALE:GREGORIAN
METHOD:PUBLISH
X-WR-CALNAME:Sommelier Edit
X-ORIGINAL-URL:https://sommelieredit.com/es/
X-WR-CALDESC:Eventos para Sommelier Edit
REFRESH-INTERVAL;VALUE=DURATION:PT1H
X-Robots-Tag:noindex
X-PUBLISHED-TTL:PT1H
BEGIN:VTIMEZONE
TZID:Europe/London
BEGIN:DAYLIGHT
TZOFFSETFROM:+0000
TZOFFSETTO:+0100
TZNAME:BST
DTSTART:20220327T010000
END:DAYLIGHT
BEGIN:STANDARD
TZOFFSETFROM:+0100
TZOFFSETTO:+0000
TZNAME:GMT
DTSTART:20221030T010000
END:STANDARD
BEGIN:DAYLIGHT
TZOFFSETFROM:+0000
TZOFFSETTO:+0100
TZNAME:BST
DTSTART:20230326T010000
END:DAYLIGHT
BEGIN:STANDARD
TZOFFSETFROM:+0100
TZOFFSETTO:+0000
TZNAME:GMT
DTSTART:20231029T010000
END:STANDARD
BEGIN:DAYLIGHT
TZOFFSETFROM:+0000
TZOFFSETTO:+0100
TZNAME:BST
DTSTART:20240331T010000
END:DAYLIGHT
BEGIN:STANDARD
TZOFFSETFROM:+0100
TZOFFSETTO:+0000
TZNAME:GMT
DTSTART:20241027T010000
END:STANDARD
BEGIN:DAYLIGHT
TZOFFSETFROM:+0000
TZOFFSETTO:+0100
TZNAME:BST
DTSTART:20250330T010000
END:DAYLIGHT
BEGIN:STANDARD
TZOFFSETFROM:+0100
TZOFFSETTO:+0000
TZNAME:GMT
DTSTART:20251026T010000
END:STANDARD
BEGIN:DAYLIGHT
TZOFFSETFROM:+0000
TZOFFSETTO:+0100
TZNAME:BST
DTSTART:20260329T010000
END:DAYLIGHT
BEGIN:STANDARD
TZOFFSETFROM:+0100
TZOFFSETTO:+0000
TZNAME:GMT
DTSTART:20261025T010000
END:STANDARD
END:VTIMEZONE
BEGIN:VEVENT
DTSTART;TZID=Europe/London:20230126T010100
DTEND;TZID=Europe/London:20230131T130100
DTSTAMP:20260426T020231
CREATED:20230126T092922Z
LAST-MODIFIED:20230126T092958Z
UID:10000012-1674694860-1675170060@sommelieredit.com
SUMMARY:evento de mezcla de prueba
DESCRIPTION:este es un evento de prueba\, solo debe mostrarse en español
URL:https://sommelieredit.com/es/event/evento-de-mezcla-de-prueba/
LOCATION:Lindley Hall\, London\, 80 Vincent Square\, London\, SW1P 2PB\, United Kingdom
CATEGORIES:Mezcladores sociales
ATTACH;FMTTYPE=image/jpeg:https://sommelieredit.com/wp-content/uploads/gravity_forms/6-822ab8e63466a5e3bb7e3ee7cbe3d147/2023/01/abm-sc-011.jpg
GEO:51.0678866;-0.3145963
X-APPLE-STRUCTURED-LOCATION;VALUE=URI;X-ADDRESS=Lindley Hall London 80 Vincent Square London SW1P 2PB United Kingdom;X-APPLE-RADIUS=500;X-TITLE=80 Vincent Square:geo:-0.3145963,51.0678866
END:VEVENT
BEGIN:VEVENT
DTSTART;TZID=Europe/London:20250204T140000
DTEND;TZID=Europe/London:20250204T150000
DTSTAMP:20260426T020231
CREATED:20250115T134814Z
LAST-MODIFIED:20250115T135426Z
UID:10000043-1738677600-1738681200@sommelieredit.com
SUMMARY:Debate sobre el estado de la nación HORECA en España por Top 100 Sommeliers Spain
DESCRIPTION:La mejor sumiller de España María José Huertas junto con Diego González Barbolla y David Robledo – los 3 mejores sumilleres de España en 2024 – se reúnen con Agustín Trapero\, Embajador de España para Top 100 Sumilleres\, para celebrar el lanzamiento del ranking anual Top 100 Sumilleres 2025 en la Semana del Vino de Barcelona. \nModerada por Charlotte Hey\, cofundadora de Top 100 Sommeliers global\, liderará el debate sobre la importancia de los sumilleres en el sector de los restaurantes\, su papel y por qué es crucial celebrar y reconocer la excelencia del servicio del vino en los restaurantes españoles en la actualidad. \n \nLos Sumilleres Profesionales pueden asistir GRATIS\, pero deben inscribirse con antelación.
URL:https://sommelieredit.com/es/event/the-state-of-the-spanish-on-trade-nation/
LOCATION:Fira de Barcelona Montjuïc\, Avinguda de la Reina Maria Cristina\, Barcelona\, Barcelona\, 08004\, Spain
CATEGORIES:Seminar
ATTACH;FMTTYPE=image/gif:https://sommelieredit.com/wp-content/uploads/2025/01/SE-website_EVENTS.gif
ORGANIZER;CN="Otaria Communications & Media Ltd.":MAILTO:celine@otaria.co.uk
GEO:41.373173;2.150312
X-APPLE-STRUCTURED-LOCATION;VALUE=URI;X-ADDRESS=Fira de Barcelona Montjuïc Avinguda de la Reina Maria Cristina Barcelona Barcelona 08004 Spain;X-APPLE-RADIUS=500;X-TITLE=Avinguda de la Reina Maria Cristina:geo:2.150312,41.373173
END:VEVENT
BEGIN:VEVENT
DTSTART;TZID=Europe/London:20250306T110000
DTEND;TZID=Europe/London:20250306T140000
DTSTAMP:20260426T020231
CREATED:20250220T135754Z
LAST-MODIFIED:20250220T135754Z
UID:10000050-1741258800-1741269600@sommelieredit.com
SUMMARY:Negev Desert Wine
DESCRIPTION:La Región Vinícola del Negev en Israel\, la primera en el mundo en la producción de vinos en entornos desérticos\, les invita a disfrutar de una exclusiva cata de sus mejores vinos en un evento único con una delegación de mas de 20 vinedos y bodegas de esta region.\nEste encuentro reunirá a mas de 150 de los principales expertos del mundo culinario y vinícola\, incluidos chefs de renombre\, sommeliers\, propietarios de restaurantes\, profesionales del vino y líderes académicos. Descubriremos juntos la historia e innovacion del Consorcio del Vino del Negev\, impulsado por la Fundación Merage Israel. \n¿Qué puede esperar del evento?\n🍷 Cata exclusiva de una selección de vinos del Negev\, con características únicas derivadas de su terroir desértico. \n🍽 Exquisita propuesta gastronómica\, diseñada para maridar con los vinos del Negev y realzar su singularidad. \n🎙 Conferencias y paneles sobre los desafíos y oportunidades de la viticultura en climas áridos\, con la participación de expertos del sector. \nNetworking de alto nivel\, promoviendo conexiones entre las industrias vinícola y turistica de España e Israel. \n🌍 Exploración de la histórica Ruta del Vino\, fusionando tradición milenaria con innovación enológica. \nEste evento está organizado por la Fundación HispanoJudía\, en el marco de su proyecto Mediterranean Dreams\, en colaboración con la Fundación Merage. Será una conferencia especial donde exploraremos la riqueza enológica del Negev\, maridada con una exquisita propuesta gastronómica. \n\n\n11:00 – 12:00\ndegustación de vinos y muestra gastronómica \n\n\n\n\n12:00 – 13:00\nconferencia “Ruta del Vino del Mediterráneo” \n\n\n\n\n13:00 – 14:00\nnetworking “vínculos / industrias vinícola y turística de España e Israel \n 
URL:https://sommelieredit.com/es/event/negev-desert-wine/
LOCATION:Cremades & Calvo-Sotelo\, 30 Calle de Jorge Juan\, Madrid\, 28001\, Spain
CATEGORIES:Eventos de cata
ATTACH;FMTTYPE=image/avif:https://sommelieredit.com/wp-content/uploads/2025/02/Negev-Desert-Wine.avif
GEO:40.4235783;-3.6835928
X-APPLE-STRUCTURED-LOCATION;VALUE=URI;X-ADDRESS=Cremades & Calvo-Sotelo 30 Calle de Jorge Juan Madrid 28001 Spain;X-APPLE-RADIUS=500;X-TITLE=30 Calle de Jorge Juan:geo:-3.6835928,40.4235783
END:VEVENT
END:VCALENDAR